DSET ^S10236659_201401020900.bin
*
OPTIONS YREV
*
UNDEF 0
*
TITLE Radiacao solar a superficie por satelite
*
XDEF 1800 LINEAR -100.0 0.04
YDEF 1800 LINEAR -50.0 0.04
ZDEF 1 LINEAR 1 1
TDEF 1 LINEAR 09:00Z02JAN2014 3hr
*
VARS 1
GL 1 -1,40,2,1 Irradiancia a superficie (W/m2)
ENDVARS
