 DSET ^S11232404_201601311330
 OPTIONS YREV
 *
 UNDEF  0
 *
 TITLE  Classificacao de imagens GOES
 *
 XDEF 1800  LINEAR  -100.0  0.04
 YDEF 1780  LINEAR   -50.0  0.04
 ZDEF 1 LINEAR  1 1
 TDEF 1 LINEAR 13:30Z31JAN2016 15mn
 VARS 1
 CLAS  0  -1,40,1,1  Classe (adim)
 ENDVARS
