DSET ^previsao_anomalia_cptec1.2_inmet_funceme_2026_tmp.bin
UNDEF -9.99e+08
TITLE previsao de anomalia combinada cptec1.2_inmet_funceme
XDEF 46 LINEAR -78. 1.0
YDEF 46 LINEAR -40. 1.0
ZDEF 1 linear 1 1
TDEF 1 LINEAR jun2026 1yr
VARS    2
tmp     0 99 temperature fct
atmp    0 99 anomaly temperature fct
ENDVARS
