DSET ^previsao_anomalia_CATEG_cptec1.2_inmet_funceme_2026_prec.bin
UNDEF -9.99e+08
TITLE previsao de anomalia _CATEGORIZADA combinada cptec1.2_inmet_funceme
XDEF 46 LINEAR -78. 1.0
YDEF 46 LINEAR -40. 1.0
ZDEF 1 linear 1 1
TDEF 1 LINEAR jun2026 1yr
VARS    1
mcatprec     0 99 maior categoria de precipitation fct
ENDVARS
