dset ^profile_2020041200-A-2020-04-14-120000-g1.gra
undef -0.9990000E+34
title BRAMS-5.2-OPER
xdef 354 linear -88.0430603 0.1908925
ydef 412 linear -52.6878815 0.1679895
zdef 32 levels 39.2 122.4 212.2 309.1 413.9 527.0 649.1 781.1 923.5 1077.4 1243.6 1423.1 1617.0 1826.3 2052.4 2296.6 2560.3 2845.2 3152.8 3485.0 3843.8 4231.3 4649.8 5101.8 5590.0 6117.1 6686.5 7301.4 7965.6 8682.8 9458.6 10289.8
tdef 1 linear 12:00z14apr2020 3hr
vars 22
aot500 0 99 - RAMS : AOT 500nm [ ]
aot550 0 99 - RAMS : AOT 550nm [ ]
CO 32 99 - RAMS : COP Concentration [ppbv ]
HNO3 32 99 - RAMS : HNO3 Concentration [ppbv ]
NMVOCm 32 99 - RAMS : Non methane VOCs mixing ratio RELACS in [ppbm ]
NO 32 99 - RAMS : NOP Concentration [ppbv ]
NO2 32 99 - RAMS : NO2 mixing ratio [ppbv ]
O3 32 99 - RAMS : O3P Concentration [ppbv ]
PM25 32 99 - RAMS : PM25 urb+bburn concentration [ug/m3 ]
PMINT 0 99 - RAMS : PM25 urb+bburn vert int [mg/m2 ]
PM25wd 0 99 - RAMS : WET deposition mass tracer PM25 [kg/m2 ]
precip 0 99 - RAMS : total accum precip [mm liq ]
t2mj 0 99 - RAMS : temp - 2m AGL; [C ]
td2mj 0 99 - RAMS : dewpoint temp in 2m [C ]
rh2m 0 99 - RAMS : Relative humidity - calculated [pct ]
zi 0 99 - RAMS : Zi [m ]
ue_avg 32 99 - RAMS : ue_avg [m/s ]
ve_avg 32 99 - RAMS : ve_avg [m/s ]
rh 32 99 - RAMS : relative humidity [pct ]
sea_press 0 99 - RAMS : sea level pressure; [mb; ]
u10mj 0 99 - RAMS : Zonal Wind - 10m [m/s ]
v10mj 0 99 - RAMS : Meridional Wind - 10m [m/s ]
endvars
