dset ^BRAMS_2020041200-A-%y4-%m2-%d2-%h20000-g1.gra
options template
undef -9.99e33
title BRAMS_2020041200
xdef 347 linear -89.9520 0.1909
ydef 365 linear -46.9762 0.1680
zdef 19 levels 1000.0 925.0 900.0 850.0 800.0 750.0 700.0 650.0 600.0 550.0 500.0 450.0 400.0 350.0 300.0 250.0 200.0 150.0 100.0
tdef 25 linear 00:00z12Apr2020 3hr
vars 64
aggregates 19 99 - RAMS : aggregate mix ratio [g/kg ]
albedt 0 99 - RAMS : albedt [ ]
cape 0 99 - RAMS : cape [J/kg ]
cine 0 99 - RAMS : cine [J/kg ]
cloud 19 99 - RAMS : cloud mix ratio [g/kg ]
geo 19 99 - RAMS : geopotential height [m ]
graupel 19 99 - RAMS : graupel mix ratio [g/kg ]
h 0 99 - RAMS : sfc sens heat flx [W/m2 ]
ice 19 99 - RAMS : ice mix ratio [g/kg ]
lai1 0 99 - RAMS : green leaf area index: patch # 1 [ ]
lai2 0 99 - RAMS : green leaf area index: patch # 2 [ ]
lai3 0 99 - RAMS : green leaf area index: patch # 3 [ ]
lai4 0 99 - RAMS : green leaf area index: patch # 4 [ ]
land 0 99 - RAMS : land frac area [ ]
le 0 99 - RAMS : sfc lat heat flx [W/m2 ]
ndvi1 0 99 - RAMS : ndvi: patch # 1 [# ]
ndvi2 0 99 - RAMS : ndvi: patch # 2 [# ]
ndvi3 0 99 - RAMS : ndvi: patch # 3 [# ]
ndvi4 0 99 - RAMS : ndvi: patch # 4 [# ]
poda 0 99 - RAMS : PODA index [g/m^3 ]
precip 0 99 - RAMS : total accum precip [mm liq ]
pristine 19 99 - RAMS : pristine mix ratio [g/kg ]
pwt 0 99 - RAMS : precipitable total water [cm ]
rain 19 99 - RAMS : rain mix ratio [g/kg ]
rh 19 99 - RAMS : relative humidity [pct ]
rlong 0 99 - RAMS : rlong [W/m2 ]
rlongup 0 99 - RAMS : rlongup [W/m2 ]
rshort 0 99 - RAMS : rshort [W/m2 ]
sea_press 0 99 - RAMS : sea level pressure; [mb; ]
sfc_press 0 99 - RAMS : sfc pressure [mb ]
slp_metar 0 99 - RAMS : sea level pressure - METAR formulation [mb ]
sltex_p1 7 99 - RAMS : soil textural class: patch # 1 [# ]
sltex_p2 7 99 - RAMS : soil textural class: patch # 2 [# ]
sltex_p3 7 99 - RAMS : soil textural class: patch # 3 [# ]
sltex_p4 7 99 - RAMS : soil textural class: patch # 4 [# ]
snow 19 99 - RAMS : snow mix ratio [g/kg ]
sst 0 99 - RAMS : water temperature [C ]
t2mJ 0 99 - RAMS : temperature at 1.5m height [K ]
td2mJ 0 99 - RAMS : dewpoint temp at 2.0m height [C ]
tempc2m 0 99 - RAMS : temp - 2m AGL; [C ]
tke 19 99 - RAMS : turb kinetic energy [m2/s2 ]
topo 0 99 - RAMS : topo [m ]
tveg1 0 99 - RAMS : vegetation temperature: patch # 1 [C ]
tveg2 0 99 - RAMS : vegetation temperature: patch # 2 [C ]
tveg3 0 99 - RAMS : vegetation temperature: patch # 3 [C ]
tveg4 0 99 - RAMS : vegetation temperature: patch # 4 [C ]
u10mJ 0 99 - RAMS : westerly wind component at 10 m height [m s-1 ]
v10mJ 0 99 - RAMS : southerly wind component at 10m heightt [m s-1 ]
vtype1 0 99 - RAMS : vegetation class: patch # 1 [# ]
vtype2 0 99 - RAMS : vegetation class: patch # 2 [# ]
vtype3 0 99 - RAMS : vegetation class: patch # 3 [# ]
vtype4 0 99 - RAMS : vegetation class: patch # 4 [# ]
zi 0 99 - RAMS : Zi [m ]
smoist1 7 99 - RAMS : soil moisture: patch # 1 [m3/m3 ]
smoist2 7 99 - RAMS : soil moisture: patch # 2 [m3/m3 ]
smoist3 7 99 - RAMS : soil moisture: patch # 3 [m3/m3 ]
smoist4 7 99 - RAMS : soil moisture: patch # 4 [m3/m3 ]
tempc 19 99 - RAMS : temperature [C ]
theta 19 99 - RAMS : potential temp [K ]
totpcp 0 99 - RAMS : total resolved precip [mm liq ]
total_cond 19 99 - RAMS : cloud mix ratio [g/kg ]
ue_avg 19 99 - RAMS : ue_avg [m/s ]
ve_avg 19 99 - RAMS : ve_avg [m/s ]
w 19 99 - RAMS : w [m/s ]
endvars
